BEGIN:VCALENDAR
VERSION:2.0
PRODID:-//ChamberMaster//Event Calendar 2.0//EN
METHOD:PUBLISH
X-PUBLISHED-TTL:P3D
REFRESH-INTERVAL:P3D
CALSCALE:GREGORIAN
BEGIN:VEVENT
DTSTART:20170118T223000Z
DTEND:20170119T003000Z
X-MICROSOFT-CDO-ALLDAYEVENT:FALSE
SUMMARY:Business After Hours at Barbour!
DESCRIPTION:Join us for a great evening with one of our longest standing members\, Barbour. If you are not familiar with Barbour's high end clothing\, you are in for a treat. The factory store will also be open!
X-ALT-DESC;FMTTYPE=text/html:Join us for a great evening with one of our longest standing members\, Barbour. If you are not familiar with Barbour&#39\;s high end clothing\, you are in for a treat. The factory store will also be open!
LOCATION:Barbour Inc. 55 Meadowbrook Drive Milford NH 03055 (event takes place at the Barbour factory)
UID:e.2735.415
SEQUENCE:3
DTSTAMP:20260420T183032Z
URL:http://members.gmsvcc.org/events/details/business-after-hours-at-barbour-415
END:VEVENT

END:VCALENDAR
