BEGIN:VCALENDAR
VERSION:2.0
PRODID:-//ChamberMaster//Event Calendar 2.0//EN
METHOD:PUBLISH
X-PUBLISHED-TTL:P3D
REFRESH-INTERVAL:P3D
CALSCALE:GREGORIAN
BEGIN:VEVENT
DTSTART:20161019T213000Z
DTEND:20161019T233000Z
X-MICROSOFT-CDO-ALLDAYEVENT:FALSE
SUMMARY:Business After Hours at Balance Point Natural Medicine
DESCRIPTION:Balance Point Natural Medicine offers solution focused medicine to uncover the hidden causes of your issues such as digestive\, nutritional\, structural\, or genetic   and not just masking the symptoms is the key to making lasting improvements in your health. Join us for a tour of this historic building (it was a barn!) and learn more about integrative health.
X-ALT-DESC;FMTTYPE=text/html:<span style="font-size:14px\;"><span style="font-family:arial\;">Balance Point Natural Medicine offers solution focused medicine to uncover the hidden causes of your issues&nbsp\;</span><span style="font-family: arial\; line-height: 25.2px\; background-color: rgb(255\, 255\, 255)\;">such as digestive\, nutritional\,&nbsp\;structural\, or genetic&nbsp\;</span><span style="font-family: arial\; line-height: 25.2px\; background-color: rgb(255\, 255\, 255)\;">&mdash\;&nbsp\;and not just masking the symptoms is the key to making lasting improvements in your health. Join us for a tour of this historic building (it was a barn!) and learn more about integrative health.</span></span>
LOCATION:354 Nashua Street\, Milford NH
UID:e.2735.412
SEQUENCE:3
DTSTAMP:20260421T003135Z
URL:http://members.gmsvcc.org/events/details/business-after-hours-at-balance-point-natural-medicine-10-19-2016-412
END:VEVENT

END:VCALENDAR
