BEGIN:VCALENDAR
VERSION:2.0
PRODID:-//ChamberMaster//Event Calendar 2.0//EN
METHOD:PUBLISH
X-PUBLISHED-TTL:P3D
REFRESH-INTERVAL:P3D
CALSCALE:GREGORIAN
BEGIN:VEVENT
DTSTART:20170517T213000Z
DTEND:20170517T233000Z
X-MICROSOFT-CDO-ALLDAYEVENT:FALSE
SUMMARY:Business After Hours at Alpine Grove Banquet Facility
DESCRIPTION:Join us at Alpine Grove Banquet Center! Weather permitting\, we will be gathered outdoors in Alpine's new outdoor pavillion - enjoy the fire pit\, Alpine's beautiful grounds and gardens and a fantastic BBQ!
X-ALT-DESC;FMTTYPE=text/html:Join us at Alpine Grove Banquet Center! Weather permitting\, we will be gathered outdoors in Alpine&#39\;s new outdoor pavillion&nbsp\;- enjoy the fire pit\, Alpine&#39\;s beautiful grounds and gardens and a fantastic BBQ!&nbsp\;
LOCATION:19 South Depot Road Hollis NH 03049
UID:e.2735.419
SEQUENCE:3
DTSTAMP:20260420T134333Z
URL:http://members.gmsvcc.org/events/details/business-after-hours-at-alpine-grove-banquet-facility-419
END:VEVENT

END:VCALENDAR
