BEGIN:VCALENDAR
VERSION:2.0
PRODID:-//ChamberMaster//Event Calendar 2.0//EN
METHOD:PUBLISH
X-PUBLISHED-TTL:P3D
REFRESH-INTERVAL:P3D
CALSCALE:GREGORIAN
BEGIN:VEVENT
DTSTART:20160925T160000Z
DTEND:20160925T190000Z
X-MICROSOFT-CDO-ALLDAYEVENT:FALSE
SUMMARY:Bridal Open House at Alpine Grove Banquet Facility
DESCRIPTION:COME VIEW ALL OUR HALLS AND BEAUTIFUL GROUNDS FOR YOUR CELEBRATION\n\n \n\nSAMPLE FOOD AND ENJOY A CASH BAR\, WHILE SPEAKING WITH OUR FAMILY OF WEDDING PROS!
X-ALT-DESC;FMTTYPE=text/html:<span style="font-family:times new roman\,serif\;">COME VIEW ALL OUR HALLS AND BEAUTIFUL GROUNDS FOR YOUR CELEBRATION</span><br />\n&nbsp\;<br />\n<span style="font-family:times new roman\,serif\;">SAMPLE FOOD AND ENJOY A CASH BAR\, WHILE SPEAKING WITH OUR FAMILY OF WEDDING PROS!</span>
LOCATION:ALPINE GROVE\, 19 SOUTH DEPOT RD\, HOLLIS NH 03049
UID:e.2735.600
SEQUENCE:3
DTSTAMP:20260421T003010Z
URL:http://members.gmsvcc.org/events/details/bridal-open-house-at-alpine-grove-banquet-facility-600
END:VEVENT

END:VCALENDAR
