BEGIN:VCALENDAR
VERSION:2.0
PRODID:-//ChamberMaster//Event Calendar 2.0//EN
METHOD:PUBLISH
X-PUBLISHED-TTL:P3D
REFRESH-INTERVAL:P3D
CALSCALE:GREGORIAN
BEGIN:VEVENT
DTSTART:20160917T113000Z
DTEND:20160917T200000Z
X-MICROSOFT-CDO-ALLDAYEVENT:FALSE
SUMMARY:Boy Scout Troop 407 Yard Sale
DESCRIPTION:Boy Scout Yard Sale!\n\nAll proceeds support Milford Troop 407 scouting activities.\n\nTwo Days Only!\n\nCome early for the best selection!\n\nGreat deals\, great service for a great cause.
X-ALT-DESC;FMTTYPE=text/html:<strong>Boy Scout Yard Sale!</strong><br />\nAll proceeds support Milford Troop 407 scouting activities.<br />\nTwo Days Only!<br />\nCome early for the best selection!<br />\nGreat deals\, great service for a great cause.
LOCATION:Located on the Milford Community House lawn\, 5 Union Street (right off the oval).
UID:e.2735.592
SEQUENCE:3
DTSTAMP:20260421T002850Z
URL:http://members.gmsvcc.org/events/details/boy-scout-troop-407-yard-sale-592
END:VEVENT

END:VCALENDAR
