BEGIN:VCALENDAR
VERSION:2.0
PRODID:-//ChamberMaster//Event Calendar 2.0//EN
METHOD:PUBLISH
X-PUBLISHED-TTL:P3D
REFRESH-INTERVAL:P3D
CALSCALE:GREGORIAN
BEGIN:VEVENT
DTSTART:20170513T140000Z
DTEND:20170513T180000Z
X-MICROSOFT-CDO-ALLDAYEVENT:FALSE
SUMMARY:Booth Registration for Souhegan Valley Health & Wellness Fair
DESCRIPTION:Learn how to get healthy and feel better by visiting the Souhegan Valley Health & Wellness Fair.  The Fair will feature free health screenings for all ages\, including vision\, diabetes\, women?s health and dental. There will also be interactive booths\, demonstrations of various fitness techniques\, family activities\, and safety checks for children. \n\n\n\nTo Purchase Space - Click Purchase Booth Space button.\n\nSVCC members please log in to received discounted rates. If not a member of the Chamber\, please continue registration as Nonmember.
X-ALT-DESC;FMTTYPE=text/html:Learn how to get healthy and feel better by visiting the Souhegan Valley Health &amp\; Wellness Fair. &nbsp\;The Fair will feature free health screenings for all ages\, including vision\, diabetes\, women?s health and dental. There will also be interactive booths\, demonstrations of various fitness techniques\, family activities\, and safety checks for children.&nbsp\;<br>\n<br>\n<strong><span style="color:#0000FF\;">To Purchase Space - Click Purchase Booth Space button.</span></strong><br>\n<span style="color:#0000FF\;"><strong>SVCC&nbsp\;members please log in to received discounted rates. If not a member of the Chamber\, please continue registration as Nonmember.</strong></span><br>\n<br>\n&nbsp\;<br>\n&nbsp\;
LOCATION:Located at the Boys & Girls Club of the Souhegan Valley 56 Mont Vernon Road Milford NH 03055
UID:e.2735.635
SEQUENCE:3
DTSTAMP:20260420T123619Z
URL:http://members.gmsvcc.org/events/details/booth-registration-for-souhegan-valley-health-wellness-fair-635
END:VEVENT

END:VCALENDAR
