BEGIN:VCALENDAR
VERSION:2.0
PRODID:-//ChamberMaster//Event Calendar 2.0//EN
METHOD:PUBLISH
X-PUBLISHED-TTL:P3D
REFRESH-INTERVAL:P3D
CALSCALE:GREGORIAN
BEGIN:VEVENT
DTSTART:20170913T213000Z
DTEND:20170914T000000Z
X-MICROSOFT-CDO-ALLDAYEVENT:FALSE
SUMMARY:Best of Souhegan Awards
DESCRIPTION:Join Us to Celebrate Our Region's BEST! The Best of Souhegan Awards recognize those local businesses and services that go above and beyond in the Souhegan Valley\, chosen by the readers of the Cabinet Press and their publications. Local award winners chosen by local customers.
X-ALT-DESC;FMTTYPE=text/html:<span style="color: rgb(91\, 91\, 91)\; font-family: &quot\;Helvetica Neue&quot\;\, Arial\, Helvetica\, sans-serif\; font-size: 13.984px\; line-height: 25px\;">Join Us to Celebrate Our Region&#39\;s BEST! The Best of Souhegan&nbsp\;Awards recognize those local businesses and services that go above and beyond in the Souhegan Valley\, chosen by the readers of the Cabinet Press and their publications. Local award winners chosen by local customers.</span>
LOCATION:Alpine Grove Banquet Center\, 19 South Depot Road\, Hollis NH 03049
UID:e.2735.2832
SEQUENCE:3
DTSTAMP:20260420T060456Z
URL:http://members.gmsvcc.org/events/details/best-of-souhegan-awards-2832
END:VEVENT

END:VCALENDAR
