BEGIN:VCALENDAR
VERSION:2.0
PRODID:-//ChamberMaster//Event Calendar 2.0//EN
METHOD:PUBLISH
X-PUBLISHED-TTL:P3D
REFRESH-INTERVAL:P3D
CALSCALE:GREGORIAN
BEGIN:VEVENT
DTSTART:20161105T230000Z
DTEND:20161106T040000Z
X-MICROSOFT-CDO-ALLDAYEVENT:FALSE
SUMMARY:Best Buddies Masquerade Gala Fundraiser
DESCRIPTION:Cue the masks and confetti   it's time for the 2016 Best Buddies Masquerade Gala! As one of New Hampshire's most anticipated events\, more than 400 guests will fill the Armory Ballroom at the Radisson Hotel in Manchester for an evening of food\, drinks\, fun\, special performances\, and dancing to Sugah Rush. And\, again\, we are rolling out the red carpet early for our premiere guests. Sponsors\, their guests\, and VIP ticket holders are invited to join us for the VIP reception\, which offers an exclusive first look at our amazing auction items! The 2016 Best Buddies Masquerade Gala promises to be an event our guests won't soon forget. VIP sponsorship opportunities are still available and can be purchased below in the ticket pull-down menu. For details on what each sponsorship level includes\, download our partnerships PDF\, or contact Sarra Dennehy\, State Director\, at sarradennehy@bestbuddies.org or (603) 892-4775.
X-ALT-DESC;FMTTYPE=text/html:Cue the masks and confetti &mdash\; it&rsquo\;s time for the 2016 Best Buddies Masquerade Gala! As one of New Hampshire&rsquo\;s most anticipated events\, more than 400 guests will fill the Armory Ballroom at the Radisson Hotel in Manchester for an evening of food\, drinks\, fun\, special performances\, and dancing to Sugah Rush. And\, again\, we are rolling out the red carpet early for our premiere guests. Sponsors\, their guests\, and VIP ticket holders are invited to join us for the VIP reception\, which offers an exclusive first look at our amazing auction items! The 2016 Best Buddies Masquerade Gala promises to be an event our guests won&rsquo\;t soon forget. VIP sponsorship opportunities are still available and can be purchased below in the ticket pull-down menu. For details on what each sponsorship level includes\, download our partnerships PDF\, or contact Sarra Dennehy\, State Director\, at sarradennehy@bestbuddies.org or (603) 892-4775.
LOCATION:Radisson Hotel 700 Elm Street Manchester\, NH 03101
UID:e.2735.613
SEQUENCE:3
DTSTAMP:20260420T225615Z
URL:http://members.gmsvcc.org/events/details/best-buddies-masquerade-gala-fundraiser-613
END:VEVENT

END:VCALENDAR
