BEGIN:VCALENDAR
VERSION:2.0
PRODID:-//ChamberMaster//Event Calendar 2.0//EN
METHOD:PUBLISH
X-PUBLISHED-TTL:P3D
REFRESH-INTERVAL:P3D
CALSCALE:GREGORIAN
BEGIN:VEVENT
DTSTART;VALUE=DATE:20170923
DTEND;VALUE=DATE:20170925
TRANSP:TRANSPARENT
X-MICROSOFT-CDO-ALLDAYEVENT:TRUE
SUMMARY:Beaver Brook Annual Fall Festival & Nature Art Show
DESCRIPTION:Beaver Brook Association invites the public to our 37th Annual Fall Festival & Nature Art Show. Artwork by dozens of regional artists will be on display at Maple Hill Farm and the featured artist this year is Heather Crowley of East Kingston\, New Hampshire. The Fall Festival is the signature annual event of Beaver Brook Association and in addition to the fabulous display of artwork\, there will be activities of interest for all age groups. These include nature crafts for children\, animal presentations from Wingmasters\, Eyes on Owls\, Wildlife Encounters and Carriage Shack petting farm. There will be garden tours\, guided hikes\, live music\, a beekeeping demonstration\, homemade food\, hot dog roast and more. Please visit our website for more details and save these dates for a fun weekend for everyone. www.beaverbrook.org
X-ALT-DESC;FMTTYPE=text/html:Beaver Brook Association invites the public to our 37th Annual Fall Festival &amp\; Nature Art Show. Artwork by dozens of regional artists will be on display at Maple Hill Farm and the featured artist this year is Heather Crowley of East Kingston\, New Hampshire. The Fall Festival is the signature annual event of Beaver Brook Association and in addition to the fabulous display of artwork\, there will be activities of interest for all age groups. These include nature crafts for children\, animal presentations from Wingmasters\, Eyes on Owls\, Wildlife Encounters and Carriage Shack petting farm. There will be garden tours\, guided hikes\, live music\, a beekeeping demonstration\, homemade food\, hot dog roast and more. Please visit our website for more details and save these dates for a fun weekend for everyone. www.beaverbrook.org
LOCATION:Beaver Brook Association 117 Ridge Road Hollis\, NH 03049
UID:e.2735.2808
SEQUENCE:3
DTSTAMP:20260420T060635Z
URL:http://members.gmsvcc.org/events/details/beaver-brook-annual-fall-festival-nature-art-show-2808
END:VEVENT

END:VCALENDAR
