BEGIN:VCALENDAR
VERSION:2.0
PRODID:-//ChamberMaster//Event Calendar 2.0//EN
METHOD:PUBLISH
X-PUBLISHED-TTL:P3D
REFRESH-INTERVAL:P3D
CALSCALE:GREGORIAN
BEGIN:VEVENT
DTSTART:20160924T150000Z
DTEND:20160925T210000Z
X-MICROSOFT-CDO-ALLDAYEVENT:FALSE
SUMMARY:Beaver Brook Annual Fall Festival & Nature Art Show
DESCRIPTION:Beaver Brook Association invites the public to our 36th Annual Fall Festival & Nature Art Show.  Artwork by dozens of regional artists will be on display at Maple Hill Farm and the featured artist this year is Zachary Zahn of Wilton\, New Hampshire.\n\nThe Fall Festival is the signature annual event of Beaver Brook Association and in addition to the fabulous display of artwork\, there will be activities of interest for all age groups.  These include nature crafts for children\, animal presentations from Wingmasters\, Eyes on Owls and Wildlife Encounters\, a petting farm\, live music by local performers including Caroline Burns\, a contestant on The Voice last season.  There will be garden tours\, guided hikes\, a beekeeping demonstration\, homemade food\, hot dog roast and more. Please visit our website for more details and save these dates for a fun weekend for everyone.
X-ALT-DESC;FMTTYPE=text/html:Beaver Brook Association invites the public to our 36th Annual Fall Festival &amp\; Nature Art Show. &nbsp\;Artwork by dozens of regional artists will be on display at Maple Hill Farm and the featured artist this year is Zachary Zahn of Wilton\, New Hampshire.<br />\nThe Fall Festival is the signature annual event of Beaver Brook Association and in addition to the fabulous display of artwork\, there will be activities of interest for all age groups. &nbsp\;These include nature crafts for children\, animal presentations from Wingmasters\, Eyes on Owls and Wildlife Encounters\, a petting farm\, live music by local performers including Caroline Burns\, a contestant on The Voice last season. &nbsp\;There will be garden tours\, guided hikes\, a beekeeping demonstration\, homemade food\, hot dog roast and more. Please visit our website for more details and save these dates for a fun weekend for everyone.
LOCATION:Maple Hill Farm\, 117 Ridge Road\, Hollis NH 03049
UID:e.2735.434
SEQUENCE:3
DTSTAMP:20260421T003907Z
URL:http://members.gmsvcc.org/events/details/beaver-brook-annual-fall-festival-nature-art-show-09-24-2016-434
END:VEVENT

END:VCALENDAR
