BEGIN:VCALENDAR
VERSION:2.0
PRODID:-//ChamberMaster//Event Calendar 2.0//EN
METHOD:PUBLISH
X-PUBLISHED-TTL:P3D
REFRESH-INTERVAL:P3D
CALSCALE:GREGORIAN
BEGIN:VEVENT
DTSTART:20180906T120000Z
DTEND:20180906T143000Z
X-MICROSOFT-CDO-ALLDAYEVENT:FALSE
SUMMARY:Back to Business Bonanza! Part of the Chamber's Educational Series
DESCRIPTION:Join the Souhegan Valley Chamber of Commerce for our Back to Business Bonanza!\n\n\n\nPart of the Chamber's Education Series\, come learn key tools you can use from the experts to  Re-fcous Your Business For Maximun Growth and Success!  Speakers include:\n\n\n\n* Kristin Hardwick Photography  will teach you how to be the face of your brand\,live your brand authentically and how to connect with others to build your brand!\n\n* H.A. Snyder HasOptimization will teach you 3 action stepsthat will give you immediate results to growing your business on-line inan ever-changing environment
X-ALT-DESC;FMTTYPE=text/html:Join the Souhegan Valley Chamber of Commerce for our Back to Business Bonanza!<br />\n<br />\nPart of the Chamber&#39\;s Education Series\, come learn key tools you can use from the experts to&nbsp\; Re-fcous Your Business For Maximun Growth and Success!&nbsp\; Speakers include:<br />\n<br />\n* Kristin Hardwick Photography&nbsp\; will teach you how to be the face of your brand\,live your brand authentically and how to connect with others to build your brand!<br />\n* H.A. Snyder HasOptimization will teach you 3 action stepsthat will give you immediate results to growing your business on-line inan ever-changing environment<br />\n<br />\n&nbsp\;
LOCATION:St. Paul's Lutheran Church 3 Craftsman Lane\, Amherst
UID:e.2735.3716
SEQUENCE:3
DTSTAMP:20260419T123055Z
URL:http://members.gmsvcc.org/events/details/back-to-business-bonanza-part-of-the-chamber-s-educational-series-3716
END:VEVENT

END:VCALENDAR
