BEGIN:VCALENDAR
VERSION:2.0
PRODID:-//ChamberMaster//Event Calendar 2.0//EN
METHOD:PUBLISH
X-PUBLISHED-TTL:P3D
REFRESH-INTERVAL:P3D
CALSCALE:GREGORIAN
BEGIN:VEVENT
DTSTART:20170323T123000Z
DTEND:20170323T140000Z
X-MICROSOFT-CDO-ALLDAYEVENT:FALSE
SUMMARY:Asset Protection & Succession Planning - Plan Ahead For When You Need It
DESCRIPTION:You own a business and are thinking about soon retiring. Or\, you and your partners are getting a 'divorce.' Perhaps one of you is having a health crisis. Or\, you are the ceo/general manager and worried about transitioning your role to an employee. What happens now?\n\nJust registering a business with the State and doing business in that name will not protect you from liability. An LLC\, S-Corporation or other entity needs to be properly created and maintained. You need to understand and respect corporate formalities and be adequately capitalized (usually through proper insurance) to cover foreseeable risks. A good creditor's lawyer can "pierce the corporate veil" and attach your personal assets if your corporate entity is not properly created and managed. Proper contracts with your customers and collaborators are also critical in minimizing the risk of business-related liability.\n\nMany small and closely-held businesses begin as a handshake between two or three partners\, who sometimes go as far as registering a limited liability company or other corporate entity with the State   but then they turn back to running the business and fail to hammer out an operating or shareholder agreement. This works fine as long as everyone is healthy\, dedicated to the business\, and carrying their share of the weight. However\, when death\, disability\, divorce or disagreement among the partners occurs\, failure to plan becomes very costly. Surviving spouses become accidental partners who may   or may not   contribute to the smooth operation of the business. Divorcing spouses may be awarded partial ownership or future economic rights in the company. What if one of the partners simply wants out? How do you value the business\, and his or her stake in it? How is the buyout paid for? What rights do minority owners have in a sale of the business?\n\nWithout a road map that leads to rational\, predictable answers to these and other questions\, you are setting yourself up for expensive litigation and ruined relationships. Don't stop halfway in forming your business   and if you did\, don't continue to neglect this key element of your asset preservation plan  especially if most of your current and future wealth depends on the success of your business.\n\nOur Speakers are:\n\nDonald Sienkiewicz\, Estate Preservation and Planning Law Office\, \n\nAndy Moysenko\, Advyse\, a firm specializing in Business Transition Planning
X-ALT-DESC;FMTTYPE=text/html:<p style="box-sizing: border-box\; border: 0px\; font-family: &quot\;Libre Baskerville&quot\;\; font-size: 16px\; margin: 0px 0px 10px\; outline: 0px\; padding: 0px\; vertical-align: baseline\; color: rgb(61\, 17\, 12)\;"><span style="font-size:12px\;"><span style="font-family:arial\;"><span style="background-color: rgb(255\, 255\, 255)\;">You own a business and are thinking about soon retiring. Or\, you and your partners are getting a &#39\;divorce.&#39\; Perhaps one of you is having a health crisis. Or\, you are the ceo/general manager and worried about transitioning your role to an employee. What happens now?</span><br />\nJust registering a business with the State and doing business in that name will&nbsp\;<em style="box-sizing: border-box\; border: 0px\; font-family: inherit\; font-weight: inherit\; margin: 0px\; outline: 0px\; padding: 0px\; vertical-align: baseline\;">not&nbsp\;</em>protect you from liability. An LLC\, S-Corporation or other entity needs to be properly created and maintained. You need to understand and respect corporate formalities and be adequately capitalized (usually through proper insurance) to cover foreseeable risks. A good creditor&rsquo\;s lawyer can &ldquo\;pierce the corporate veil&rdquo\; and attach your personal assets if your corporate entity is not properly created and managed. Proper contracts with your customers and collaborators are also critical in minimizing the risk of business-related liability.</span></span></p>\n\n<p style="box-sizing: border-box\; border: 0px\; font-family: &quot\;Libre Baskerville&quot\;\; font-size: 16px\; margin: 0px 0px 10px\; outline: 0px\; padding: 0px\; vertical-align: baseline\; color: rgb(61\, 17\, 12)\;"><span style="font-size:12px\;"><span style="font-family:arial\;">Many small and closely-held businesses begin as a handshake between two or three partners\, who sometimes go as far as registering a limited liability company or other corporate entity with the State &ndash\; but then they turn back to running the business and fail to hammer out an operating or shareholder agreement. This works fine as long as everyone is healthy\, dedicated to the business\, and carrying their share of the weight. However\, when death\, disability\, divorce or disagreement among the partners occurs\, failure to plan becomes very costly. Surviving spouses become accidental partners who may &ndash\; or may not &ndash\; contribute to the smooth operation of the business. Divorcing spouses may be awarded partial ownership or future economic rights in the company. What if one of the partners simply wants out? How do you value the business\, and his or her stake in it? How is the buyout paid for? What rights do minority owners have in a sale of the business?</span></span></p>\n\n<p style="box-sizing: border-box\; border: 0px\; font-family: &quot\;Libre Baskerville&quot\;\; font-size: 16px\; margin: 0px 0px 10px\; outline: 0px\; padding: 0px\; vertical-align: baseline\; transition: all 0.2s ease\; color: rgb(61\, 17\, 12)\;"><span style="font-size:12px\;"><span style="font-family:arial\;">Without a road map that leads to rational\, predictable answers to these and other questions\, you are setting yourself up for expensive litigation and ruined relationships. Don&rsquo\;t stop halfway in forming your business &ndash\; and if you did\, don&rsquo\;t continue to neglect this key element of your asset preservation plan&hellip\; especially if most of your current and future wealth depends on the success of your business.<br />\nOur Speakers are:<br />\nDonald </span></span><span style="font-size:12px\;"><span style="font-family:arial\;">Sienkiewicz\, Estate Preservation and Planning Law Office\,&nbsp\;<br />\nAndy Moysenko\, Advyse\, a firm specializing in Business Transition Planning</span></span><br />\n&nbsp\;</p>\n
LOCATION:Souhegan Valley Chamber of Commerce 69 Route 101A Amherst NH 03031 (same building as Granite Bank)
UID:e.2735.778
SEQUENCE:3
DTSTAMP:20260420T165322Z
URL:http://members.gmsvcc.org/events/details/asset-protection-succession-planning-plan-ahead-for-when-you-need-it-778
END:VEVENT

END:VCALENDAR
