BEGIN:VCALENDAR
VERSION:2.0
PRODID:-//ChamberMaster//Event Calendar 2.0//EN
METHOD:PUBLISH
X-PUBLISHED-TTL:P3D
REFRESH-INTERVAL:P3D
CALSCALE:GREGORIAN
BEGIN:VEVENT
DTSTART:20170329T220000Z
DTEND:20170330T000000Z
X-MICROSOFT-CDO-ALLDAYEVENT:FALSE
SUMMARY:Asset Protection\, Medicaid and the Nursing Home Lien
DESCRIPTION:This seminar is designed to educate citizens over age 50 and their adult children about the risk to your legacy posed by the cost of nursing home care and how to avoid it.
X-ALT-DESC;FMTTYPE=text/html:<span style="color: rgb(0\, 58\, 74)\; font-family: Arial\, Helvetica\, sans-serif\; font-size: 12px\;">This seminar is designed to educate citizens over age 50 and their adult children about the risk to your legacy posed by the cost of nursing home care and how to avoid it.</span>
LOCATION:Milford Community House 5 Union Street Milford NH 03055
UID:e.2735.788
SEQUENCE:3
DTSTAMP:20260420T154244Z
URL:http://members.gmsvcc.org/events/details/asset-protection-medicaid-and-the-nursing-home-lien-788
END:VEVENT

END:VCALENDAR
