BEGIN:VCALENDAR
VERSION:2.0
PRODID:-//ChamberMaster//Event Calendar 2.0//EN
METHOD:PUBLISH
X-PUBLISHED-TTL:P3D
REFRESH-INTERVAL:P3D
CALSCALE:GREGORIAN
BEGIN:VEVENT
DTSTART:20170513T123000Z
DTEND:20170513T170000Z
X-MICROSOFT-CDO-ALLDAYEVENT:FALSE
SUMMARY:Annual Plant Sale
DESCRIPTION:The gardeners of the Amherst Garden Club put on one heck of a Plant Sale the Saturday of Mother's Day weekend. Come and pick up a special gift for your mother. There are hanging baskets\, raffle baskets\, annuals\, herbs\,vegetable plants\, garden ornaments and gifts as well as over 2500 hand dug and potted perennials from local gardens. A spring tradition in Amherst!
X-ALT-DESC;FMTTYPE=text/html:The gardeners of the Amherst Garden Club put on one heck of a Plant Sale the Saturday of Mother&#39\;s Day weekend. Come and pick up a special gift for your mother. There are hanging baskets\, raffle baskets\, annuals\, herbs\,vegetable plants\, garden ornaments and gifts as well as over 2500 hand dug and potted perennials from local gardens. A spring tradition in Amherst!
LOCATION:Wilkins Elementary School\, 80 Boston Post Road\, Amherst\, NH 03031
UID:e.2735.779
SEQUENCE:3
DTSTAMP:20260420T134507Z
URL:http://members.gmsvcc.org/events/details/annual-plant-sale-779
END:VEVENT

END:VCALENDAR
