BEGIN:VCALENDAR
VERSION:2.0
PRODID:-//ChamberMaster//Event Calendar 2.0//EN
METHOD:PUBLISH
X-PUBLISHED-TTL:P3D
REFRESH-INTERVAL:P3D
CALSCALE:GREGORIAN
BEGIN:VEVENT
DTSTART:20170401T220000Z
DTEND:20170402T020000Z
X-MICROSOFT-CDO-ALLDAYEVENT:FALSE
SUMMARY:Amherst Junior Womens' 6th Annual Night of Comedy
DESCRIPTION:Please join us for our 6th Annual Night of Comedy. The 6th Annual Night of Comedy is just two weeks away! We are very excited about this event. If you have not sent in your payment and reserved your tickets and/or tables\, the crunch is on. We must receive your payment to reserve your tickets and/or tables. Your tables will have your name card on it. The hotel needs a count for the room set up and for food. Room rate for that evening is $99.00. Tel: 603 886 1200. Tell them you are with the Amherst Junior Women's Comedy Night. If you haven't made up your mind\, allow me to assist. We have terrific silent auction items\, hysterical comics and delicious hot and cold appetizers. Meet new friends\, relax and enjoy the evening. See what the Amherst Junior Women's Club is all about. We do such amazing work for our community. We tirelessly volunteer our time and passion. All proceeds from our silent auction go to our community as well as scholarships for two graduating seniors from our high school. We look forward to meeting all of you and seeing you enjoy this wonderful evening. Please send your payments to: AJWC P.O. BOX 513 AMHERST\, NH 03031 or go to our website and use our PayPal app. Gratefully\, Karen\, Keri and Melissa The Giggle Committee
X-ALT-DESC;FMTTYPE=text/html:Please join us for our 6th Annual Night of Comedy. The 6th Annual Night of Comedy is just two weeks away! We are very excited about this event. If you have not sent in your payment and reserved your tickets and/or tables\, the crunch is on. We must receive your payment to reserve your tickets and/or tables. Your tables will have your name card on it. The hotel needs a count for the room set up and for food. Room rate for that evening is $99.00. Tel: 603 886 1200. Tell them you are with the Amherst Junior Women&#39\;s Comedy Night. If you haven&#39\;t made up your mind\, allow me to assist. We have terrific silent auction items\, hysterical comics and delicious hot and cold appetizers. Meet new friends\, relax and enjoy the evening. See what the Amherst Junior Women&#39\;s Club is all about. We do such amazing work for our community. We tirelessly volunteer our time and passion. All proceeds from our silent auction go to our community as well as scholarships for two graduating seniors from our high school. We look forward to meeting all of you and seeing you enjoy this wonderful evening. Please send your payments to: AJWC P.O. BOX 513 AMHERST\, NH 03031 or go to our website and use our PayPal app. Gratefully\, Karen\, Keri and Melissa The Giggle Committee
LOCATION:Crowne Plaza 2 Somerset Blvd Nashua\, NH
UID:e.2735.793
SEQUENCE:3
DTSTAMP:20260420T141213Z
URL:http://members.gmsvcc.org/events/details/amherst-junior-womens-6th-annual-night-of-comedy-793
END:VEVENT

END:VCALENDAR
