BEGIN:VCALENDAR
VERSION:2.0
PRODID:-//ChamberMaster//Event Calendar 2.0//EN
METHOD:PUBLISH
X-PUBLISHED-TTL:P3D
REFRESH-INTERVAL:P3D
CALSCALE:GREGORIAN
BEGIN:VEVENT
DTSTART:20170513T123000Z
DTEND:20170513T170000Z
X-MICROSOFT-CDO-ALLDAYEVENT:FALSE
SUMMARY:Amherst Garden Club Annual Plant Sale
DESCRIPTION:The Amherst Garden Club Plant Sale is an annual event\, always the Saturday before Mother's Day at Wilkins Elementary School in Amherst\, NH. Over 2000 locally grown perennials are lovingly dug and potted by the members of the club.  Friendly knowledgeable club members will be available to answer questions.  Stop by the Raffle Table and check out the garden related items you might win.  There are delicious homemade items at the Baked Goods Table.  A dozen vendors are invited to sell their garden-related products.  There will be heirloom tomatoes\, bird houses\, hanging baskets\, vegetable plants\, annuals\, a great variety of hosta plants\, day lilies and specialty perennials all offered by the wonderful vendors.  Proceeds from the Plant Sale benefit community projects\, scholarships for local high school students\, and club members class fees for  horticulture endeavors.
X-ALT-DESC;FMTTYPE=text/html:The Amherst Garden Club Plant Sale is an annual event\, always the Saturday before Mother&rsquo\;s Day at Wilkins Elementary School in Amherst\, NH. Over 2000 locally grown perennials are lovingly dug and potted by the members of the club. &nbsp\;Friendly knowledgeable club members will be available to answer questions.&nbsp\; Stop by the Raffle Table and check out the garden related items you might win.&nbsp\; There are delicious homemade items at the Baked Goods Table.&nbsp\; A dozen vendors are invited to sell their garden-related products.&nbsp\; There will be heirloom tomatoes\, bird houses\, hanging baskets\, vegetable plants\, annuals\, a great variety of hosta plants\,&nbsp\;day lilies and specialty perennials&nbsp\;all offered by the wonderful vendors. &nbsp\;Proceeds from the Plant Sale benefit community projects\, scholarships for local high school students\, and club members class fees for&nbsp\; horticulture endeavors. &nbsp\;
LOCATION:Wilkins Elementary School 80 Boston Post Road\, Amherst\, NH
UID:e.2735.1802
SEQUENCE:3
DTSTAMP:20260420T123805Z
URL:http://members.gmsvcc.org/events/details/amherst-garden-club-annual-plant-sale-1802
END:VEVENT

END:VCALENDAR
