BEGIN:VCALENDAR
VERSION:2.0
PRODID:-//ChamberMaster//Event Calendar 2.0//EN
METHOD:PUBLISH
X-PUBLISHED-TTL:P3D
REFRESH-INTERVAL:P3D
CALSCALE:GREGORIAN
BEGIN:VEVENT
DTSTART:20180908T130000Z
DTEND:20180908T160000Z
X-MICROSOFT-CDO-ALLDAYEVENT:FALSE
SUMMARY:Amherst Community Foundation Disc Golf Tournament
DESCRIPTION:Shot Gun Start at 9:00 am Arrival and Registration at 8:00 am Live Music Kick Start Breakfast Free Commemorative Golf Disc!
X-ALT-DESC;FMTTYPE=text/html:Shot Gun Start at 9:00 am Arrival and Registration at 8:00 am Live Music Kick Start Breakfast Free Commemorative Golf Disc!
LOCATION:Birch Park (11 Baboosic Lake Rd\, Amherst)
UID:e.2735.3717
SEQUENCE:3
DTSTAMP:20260419T121949Z
URL:http://members.gmsvcc.org/events/details/amherst-community-foundation-disc-golf-tournament-3717
END:VEVENT

END:VCALENDAR
