BEGIN:VCALENDAR
VERSION:2.0
PRODID:-//ChamberMaster//Event Calendar 2.0//EN
METHOD:PUBLISH
X-PUBLISHED-TTL:P3D
REFRESH-INTERVAL:P3D
CALSCALE:GREGORIAN
BEGIN:VEVENT
DTSTART:20180502T123000Z
DTEND:20180502T143000Z
X-MICROSOFT-CDO-ALLDAYEVENT:FALSE
SUMMARY:Active Shooter & Workplace Safety Training Program
DESCRIPTION:A customer walks into your business and becomes agitated...\n\nA co-worker or employee begins acting aggressive or distressed at work...\n\n\n\nAre you prepared? How do you handle these situations and what are the signs?\n\n\n\nOfficer John Smith and Officer Michael Knox of the Amherst Police Department\, in cooperation with the Souhegan Valley Chamber of Commerce\, will present information to business owners and employees regarding the successful mitigation of workplace aggression and violence.  The information shared will include best practices for handling unruly customers\, domestic arguments that enter the workplace\, and active shooter situations.  The 90 minute presentation will include research-based responses for dealing with violent situations and suggestions for increasing workplace safety.   Particular focus will be placed on the actions employers and employees can take before\, during\, and after the response of law enforcement officers. \n\n\n\nBe prepared and aware...it could save your life\,your employees or your customers.
X-ALT-DESC;FMTTYPE=text/html:<span style="font-size:16px\;"><span style="color:#B22222\;"><em><strong>A customer walks into your business and becomes agitated...<br />\nA co-worker or employee begins acting aggressive or distressed at work...<br />\n<br />\nAre you prepared? How do you handle these situations and what are the signs?</strong></em></span></span><br />\n<br />\nOfficer John Smith and Officer Michael Knox of the Amherst Police Department\, in cooperation with the Souhegan Valley Chamber of Commerce\, will present information to business owners and employees regarding the successful mitigation of workplace aggression and violence.&nbsp\; The information shared will include best practices for handling unruly customers\, domestic arguments that enter the workplace\, and active shooter situations.&nbsp\; The 90 minute presentation will include research-based responses for dealing with violent situations and suggestions for increasing workplace safety.&nbsp\;&nbsp\; Particular focus will be placed on the actions employers and employees can take before\, during\, and after the response of law enforcement officers.&nbsp\;<br />\n<br />\nBe prepared and aware...it could save your life\,your employees or your customers.
LOCATION:Souhegan Valley Chamber office 69 Route 101A\, Amherst NH 03031
UID:e.2735.3540
SEQUENCE:3
DTSTAMP:20260419T173207Z
URL:http://members.gmsvcc.org/events/details/active-shooter-workplace-safety-training-program-3540
END:VEVENT

END:VCALENDAR
