BEGIN:VCALENDAR
VERSION:2.0
PRODID:-//ChamberMaster//Event Calendar 2.0//EN
METHOD:PUBLISH
X-PUBLISHED-TTL:P3D
REFRESH-INTERVAL:P3D
CALSCALE:GREGORIAN
BEGIN:VEVENT
DTSTART:20161119T143000Z
DTEND:20161119T163000Z
X-MICROSOFT-CDO-ALLDAYEVENT:FALSE
SUMMARY:A Pathway to Participating More Fully in Life: The Davis Autism Approach
DESCRIPTION:Learn more about the Intense World Theory as it relates to autism and three programs that Creative Learning Solutions offers that allow children and adults to participate more fully in life. This approach is non-invasive and gentle\, helping individuals to gain more control of focus\, perceive the world accurately\, reduce anxiety and control stress levels. This approach encompasses a variety of needs and abilities\, from the struggling five year old\, and the-nonverbal school age child\, to the young adult who is struggling to develop friendships and truly communicate but is getting by academically.
X-ALT-DESC;FMTTYPE=text/html:Learn more about the Intense World Theory as it relates to autism and three programs that Creative Learning Solutions offers that allow children and adults to participate more fully in life. This approach is non-invasive and gentle\, helping individuals to gain more control of focus\, perceive the world accurately\, reduce anxiety and control stress levels. This approach encompasses a variety of needs and abilities\, from the struggling five year old\, and the-nonverbal school age child\, to the young adult who is struggling to develop friendships and truly communicate but is getting by academically.
LOCATION:Wadleigh Memorial Library\, Keyes Room 49 Nashua St. Milford\, NH
UID:e.2735.607
SEQUENCE:3
DTSTAMP:20260420T215153Z
URL:http://members.gmsvcc.org/events/details/a-pathway-to-participating-more-fully-in-life-the-davis-autism-approach-607
END:VEVENT

END:VCALENDAR
