BEGIN:VCALENDAR
VERSION:2.0
PRODID:-//ChamberMaster//Event Calendar 2.0//EN
METHOD:PUBLISH
X-PUBLISHED-TTL:P3D
REFRESH-INTERVAL:P3D
CALSCALE:GREGORIAN
BEGIN:VEVENT
DTSTART:20180915T210000Z
DTEND:20180916T000000Z
X-MICROSOFT-CDO-ALLDAYEVENT:FALSE
SUMMARY:5th Annual Fall Harvest Dinner
DESCRIPTION:Join the Souhegan Valley Chamber of Commerce as we partner with the Boys and Girls Club of Souhegan Valley in presenting this farm-to-table dining event!\n\nMoving to a new venue this year\, join us for a  locally sourced meal and appetizers as we dine in the historic Maple Hill  Barn at Beaver Brook Association in Hollis-- also a Chamber member!\n\n\n\nThe event will include beer and wine. Tickets are limited!
X-ALT-DESC;FMTTYPE=text/html:Join the Souhegan Valley Chamber of Commerce as we partner with the Boys and Girls Club of Souhegan Valley in presenting this farm-to-table dining event!<br />\nMoving to a new venue this year\, join us for a&nbsp\; locally sourced meal and appetizers as we dine in the historic Maple Hill&nbsp\; Barn at Beaver Brook Association in Hollis-- also a Chamber member!<br />\n<br />\nThe event will include beer and wine. Tickets are limited!
LOCATION:Beaver Brook Association 117 Ridge Rd\, Hollis\, NH 03049
UID:e.2735.3582
SEQUENCE:3
DTSTAMP:20260419T121759Z
URL:http://members.gmsvcc.org/events/details/5th-annual-fall-harvest-dinner-3582
END:VEVENT

END:VCALENDAR
