BEGIN:VCALENDAR
VERSION:2.0
PRODID:-//ChamberMaster//Event Calendar 2.0//EN
METHOD:PUBLISH
X-PUBLISHED-TTL:P3D
REFRESH-INTERVAL:P3D
CALSCALE:GREGORIAN
BEGIN:VEVENT
DTSTART:20180512T140000Z
DTEND:20180512T180000Z
X-MICROSOFT-CDO-ALLDAYEVENT:FALSE
SUMMARY:4th Annual Community Health and Wellness Fair
DESCRIPTION:Interested in having a booth at the Community Health and Wellness Fair?\n\n\n\nEmail the Chamber at wendy.hunt@souhegan.net\n\n\n\n\n\nThe Souhegan Valley Chamber of Commerce and Southern New Hampshire Health are pleased to invite you to participate in our 4th Annual Community Health & Wellness Fair. This free community event will be held on Saturday\, May 12 from 10 am to 2 pm at the Boys and Girls Club of Souhegan Valley in Milford. \n\n \n\nThe Community Health & Wellness Fair is geared towards all ages and will feature exhibits\, information booths\, health screenings\,  family activities\, and food concessions. Our goal is to make this an interactive event with a focus on healthy activities for the entire community\, ages 1 to 101!
X-ALT-DESC;FMTTYPE=text/html:<strong><span style="font-size:18px\;"><span style="font-family:arial\;"><span style="font-size:16px\;"><span style="color:#0000FF\;"><em>Interested in having a booth at the Community Health and Wellness Fair?</em></span></span></span></span></strong><br />\n<br />\n<strong><span style="font-size:18px\;"><span style="font-family:arial\;"><span style="font-size:16px\;"><span style="color:#0000FF\;"><em>Email the Chamber at wendy.hunt@souhegan.net</em></span></span></span></span></strong><br />\n<br />\n<br />\n<strong><span style="font-size:18px\;"><span style="font-family:arial\;"><span style="color:black\;">The Souhegan Valley Chamber of Commerce and Southern New Hampshire Health are pleased to invite you to participate in our 4th Annual Community Health &amp\; Wellness Fair. This free community event will be held on Saturday\, May 12 from 10 am to 2 pm at the Boys and Girls Club of Souhegan Valley in Milford. </span><br />\n&nbsp\;<br />\n<span style="color:black\;">The Community Health &amp\; Wellness Fair is geared towards all ages and will feature exhibits\, information booths\, health screenings\,&nbsp\; family activities\, and food concessions. Our goal is to make this an interactive event with a focus on healthy activities for the entire community\, ages 1 to 101!</span></span></span></strong><br />\n<br />\n&nbsp\;
LOCATION:At the Boys and Girls Club of Souhegan Valley 56 Mont Vernon Road\, Milford
UID:e.2735.3536
SEQUENCE:3
DTSTAMP:20260419T174357Z
URL:http://members.gmsvcc.org/events/details/4th-annual-community-health-and-wellness-fair-3536
END:VEVENT

END:VCALENDAR
