BEGIN:VCALENDAR
VERSION:2.0
PRODID:-//ChamberMaster//Event Calendar 2.0//EN
METHOD:PUBLISH
X-PUBLISHED-TTL:P3D
REFRESH-INTERVAL:P3D
CALSCALE:GREGORIAN
BEGIN:VEVENT
DTSTART:20170409T160000Z
DTEND:20170409T180000Z
X-MICROSOFT-CDO-ALLDAYEVENT:FALSE
SUMMARY:3rd Annual Empty Bowls Fundraiser for SHARE
DESCRIPTION:All are invited to share a simple meal of soup\, bread\, and beverages. All proceeds will go to stock SHARE's food pantry for those in need. Soups generously donated by Moulton's Market\, Black Forest\, Mont Vernon General Store\, Giorgio's\, LongHorn\, Union Street Grill\, Papa Joe's Humble Kitchen and breads by Dutch Epicure.
X-ALT-DESC;FMTTYPE=text/html:All are invited to share a simple meal of soup\, bread\, and beverages. All proceeds will go to stock SHARE&#39\;s food pantry for those in need. Soups generously donated by Moulton&#39\;s Market\, Black Forest\, Mont Vernon General Store\, Giorgio&#39\;s\, LongHorn\, Union Street Grill\, Papa Joe&#39\;s Humble Kitchen and breads by Dutch Epicure.
LOCATION:Milford Middle School 33 Osgood Road Milford NH
UID:e.2735.1797
SEQUENCE:3
DTSTAMP:20260420T143307Z
URL:http://members.gmsvcc.org/events/details/3rd-annual-empty-bowls-fundraiser-for-share-1797
END:VEVENT

END:VCALENDAR
