BEGIN:VCALENDAR
VERSION:2.0
PRODID:-//ChamberMaster//Event Calendar 2.0//EN
METHOD:PUBLISH
X-PUBLISHED-TTL:P3D
REFRESH-INTERVAL:P3D
CALSCALE:GREGORIAN
BEGIN:VEVENT
DTSTART:20171006T213000Z
DTEND:20171008T190000Z
X-MICROSOFT-CDO-ALLDAYEVENT:FALSE
SUMMARY:28th Annual Milford Pumpkin Festival
DESCRIPTION:Join us this year at the 28th Annual Milford Pumpkin Festival!\n\n Traditionally held over Columbus Day Weekend\, 45\,000 attendees came to the festival from all over New England! Known as one of the most highly anticipated Fall festivals\, the Milford Pumpkin Festival takes place in and around historic Downtown Milford. Friday night of the Pumpkin Festival includes our opening ceremony\, the lighting of town hall\, our very popular Beer Tasting Tent\, and of course our exciting fireworks display put on by Atlas Pyrotechnics! Signature Festival events include: the Great Pumpkin Weigh-in\, Pumpkin Painting\, Pumpkin Sales\, The Pumpkin Catapult\, top Arts & Crafts vendors \, Scarecrow Making\, Great Food\, The Haunted Trail\, Face Painting\, two stages of LIVE Music and Entertainment all weekend\, Food Vendors galore\, the Talent Show\,\, bounce houses\, Carnival rides by Fanelli Amusements\, and a scholarship contest. Truly a community event\, The Milford Pumpkin Festival also provides the opportunity for forty+ community groups and non-profit organizations to run events during the weekend in order to raise funds for their programs.\n\n\n\nFor sponsorship and Vendor information:http://www\,milfordpumkinfestival.org
X-ALT-DESC;FMTTYPE=text/html:Join us this year at the 28th Annual Milford Pumpkin Festival!<br />\n&nbsp\;Traditionally held over Columbus Day Weekend\, 45\,000 attendees came to the festival from all over New England! Known as one of the most highly anticipated Fall festivals\, the Milford Pumpkin Festival takes place in and around historic Downtown Milford. Friday night of the Pumpkin Festival includes our opening ceremony\, the lighting of town hall\, our very popular Beer Tasting Tent\, and of course our exciting fireworks display put on by Atlas Pyrotechnics! Signature Festival events include: the Great Pumpkin Weigh-in\, Pumpkin Painting\, Pumpkin Sales\, The Pumpkin Catapult\, top Arts &amp\; Crafts vendors \, Scarecrow Making\, Great Food\, The Haunted Trail\, Face Painting\, two stages of LIVE Music and Entertainment all weekend\, Food Vendors galore\, the Talent Show\,\, bounce houses\, Carnival rides by Fanelli Amusements\, and a scholarship contest. Truly a community event\, The Milford Pumpkin Festival also provides the opportunity for forty+ community groups and non-profit organizations to run events during the weekend in order to raise funds for their programs.<br />\n<br />\nFor sponsorship and Vendor information:<a href="http://www\,milfordpumkinfestival.org">http://www\,milfordpumkinfestival.org</a>
LOCATION:In and Around historic Downtown Milford NH
UID:e.2735.1807
SEQUENCE:3
DTSTAMP:20260420T042053Z
URL:http://members.gmsvcc.org/events/details/28th-annual-milford-pumpkin-festival-1807
END:VEVENT

END:VCALENDAR
