BEGIN:VCALENDAR
VERSION:2.0
PRODID:-//ChamberMaster//Event Calendar 2.0//EN
METHOD:PUBLISH
X-PUBLISHED-TTL:P3D
REFRESH-INTERVAL:P3D
CALSCALE:GREGORIAN
BEGIN:VEVENT
DTSTART:20180620T130000Z
DTEND:20180620T143000Z
X-MICROSOFT-CDO-ALLDAYEVENT:FALSE
SUMMARY:2018 Greater Nashua Area Business Roundtable Discussion
DESCRIPTION:The Greater Hudson Chamber of Commerce\, Greater Nashua Chamber of Commerce\, Merrimack Chamber of Commerce\, Souhegan Valley Chamber of Commerce\, and Business & Industry Association of New Hampshire invite you to a business roundtable discussion! This is an important roundtable discussion is one of 9 being held throughout the state\, hosted by local chambers of commerce and the BIA. It is designed to give the business community a voice in establishing a proactive legislative and regulatory agenda for the 2019 legislative session at the New Hampshire State House.\nThe discussion will focus on New Hampshire's business climate. Business leaders will be asked to identify challenges affecting their operations. Next\, they will be asked to rank these challenges from most pressing to least pressing. Finally\, business leaders will be able to recommend action steps.\n\nYour attendance and participation are greatly appreciated.
X-ALT-DESC;FMTTYPE=text/html:<span style="font-size:14px\;"><span style="font-family:arial\;"><span style="text-decoration:none\;text-underline:none\;"><span style="color:windowtext\;"><a href="http://www.keenechamber.com/"><span style="text-decoration:none\;text-underline:none\;"><span style="color:windowtext\;">The Greater Hudson Chamber of Commerce\, Greater Nashua Chamber of Commerce\, Merrimack</span></span></a> Chamber of Commerce\, Souhegan Valley Chamber of Commerce\, </span></span>and <span style="text-decoration:none\;text-underline:none\;"><span style="color:windowtext\;"><a href="http://www.biaofnh.com/"><span style="text-decoration:none\;text-underline:none\;"><span style="color:windowtext\;">Business &amp\; Industry Association of New Hampshire</span></span></a> </span></span>invite you to a business roundtable discussion! This is&nbsp\;an important roundtable discussion is one of 9 being held throughout the state\, hosted by local chambers of commerce and the BIA. It is designed to give the business community a voice in establishing a proactive legislative and regulatory agenda for the 2019 legislative session at the New Hampshire State House.</span></span>\n<div style="border:none\;border-bottom:solid windowtext 1.5pt\;padding:0in 0in 15.0pt 0in\;margin-left:0in\;margin-right:-.5in\;"><span style="font-family:calibri\,sans-serif\;"><span style="font-size:11.0pt\;">The discussion will focus on New Hampshire&rsquo\;s business climate. Business leaders will be asked to identify challenges affecting their operations. Next\, they will be asked to rank these challenges from most pressing to least pressing. Finally\, business leaders will be able to recommend action steps.<br />\nYour attendance and participation are greatly appreciated.</span></span></div>\n
LOCATION:Rivier University 29 Clement Street\, Benoit Education Center 2nd Floor\, Demoulas Room Nashua\, NH
UID:e.2735.3574
SEQUENCE:3
DTSTAMP:20260419T162500Z
URL:http://members.gmsvcc.org/events/details/2018-greater-nashua-area-business-roundtable-discussion-3574
END:VEVENT

END:VCALENDAR
