BEGIN:VCALENDAR
VERSION:2.0
PRODID:-//ChamberMaster//Event Calendar 2.0//EN
METHOD:PUBLISH
X-PUBLISHED-TTL:P3D
REFRESH-INTERVAL:P3D
CALSCALE:GREGORIAN
BEGIN:VEVENT
DTSTART:20200214T123000Z
DTEND:20200214T170000Z
X-MICROSOFT-CDO-ALLDAYEVENT:FALSE
SUMMARY:15th Annual Statewide Small Business Day in Concord
DESCRIPTION:15th annual Small Business Day is an opportunity for small business owners and managers to meet peers from other small businesses across the state and learn about solutions to many challenges they face. Panel discussions include Goldman Sachs 10\,000 Small Businesses program\, financing options for small businesses\, federal and state tax reform changes that will impact the small business community\, and the benefits of considering a Multiple Employer Pension (MEP) retirement plan. \n\nThis event is presented in partnership with the New Hampshire Department of Business and Econcomic Affairs\, U.S. Small Business Administration\, New Hampshire Small Business Development Center\, and  local and regional chambers of commerce. \n\nThe cost to attend is $25 per person and is open to the general public. Registration fee includes continental breakfast. Cancellations accepted up to one week prior to event. After that\, substitutions are allowed. **Please note\, pre registration will close at 12pm on Thursday\, February 13th. Walk ins will be accepted but there will be a $10 surcharge and payment is required at the door.**\n\nFor more information or sponsorship/exhibitor details\, please contact Lora McMahon at 603-224-5388 x101.
X-ALT-DESC;FMTTYPE=text/html:<p style="margin: 0px auto 2.5em\; padding: 0px\; border: 0px\; color: rgb(51\, 51\, 51)\; font-size: 0.9em\; line-height: 2\; font-family: Merriweather\, arial\, sans-serif\; background-color: rgb(255\, 255\, 255)\;"><span class="style51"><span style="font-size: 8.5pt\;"><span style="font-family: &quot\;Lucida Console&quot\;\, Monaco\, monospace\;"><span style="font-family: Georgia\, serif\;"><span style="font-size: small\;"><span style="font-size: medium\;"><span style="font-family: Impact\, Charcoal\, sans-serif\;"><span style="font-family: Tahoma\, Geneva\, sans-serif\;"><span style="font-family: Verdana\, Geneva\, sans-serif\;"><span style="font-family: &quot\;Trebuchet MS&quot\;\, Helvetica\, sans-serif\;">15th annual Small Business Day is an opportunity for small business owners and managers to meet peers from other small businesses across the state and learn about solutions to many challenges they face. Panel discussions include Goldman Sachs 10\,000 Small Businesses program\,&nbsp\;</span></span></span></span></span></span></span></span></span></span><span class="style51"><span style="font-size: 8.5pt\;"><span style="font-family: &quot\;Lucida Console&quot\;\, Monaco\, monospace\;"><span style="font-family: Georgia\, serif\;"><span style="font-size: small\;"><span style="font-size: medium\;"><span style="font-family: Impact\, Charcoal\, sans-serif\;"><span style="font-family: Tahoma\, Geneva\, sans-serif\;"><span style="font-family: Verdana\, Geneva\, sans-serif\;"><span style="font-family: &quot\;Trebuchet MS&quot\;\, Helvetica\, sans-serif\;">financing options for small businesses\,&nbsp\;federal and state tax reform changes that will impact the small business community\, and the benefits of considering a Multiple Employer&nbsp\;Pension (MEP) retirement plan.&nbsp\;</span></span></span></span></span></span></span></span></span></span></p>\n\n<p style="margin: 0px auto 2.5em\; padding: 0px\; border: 0px\; color: rgb(51\, 51\, 51)\; font-size: 0.9em\; line-height: 2\; font-family: Merriweather\, arial\, sans-serif\; background-color: rgb(255\, 255\, 255)\;"><span class="style51"><span style="font-size: 8.5pt\;"><span style="font-family: &quot\;Lucida Console&quot\;\, Monaco\, monospace\;"><span style="font-family: Georgia\, serif\;"><span style="font-size: small\;"><span style="font-size: medium\;"><span style="font-family: Impact\, Charcoal\, sans-serif\;"><span style="font-family: Tahoma\, Geneva\, sans-serif\;"><span style="font-family: Verdana\, Geneva\, sans-serif\;"><span style="font-family: &quot\;Trebuchet MS&quot\;\, Helvetica\, sans-serif\;">This event is presented in partnership with the New Hampshire Department of Business and Econcomic Affairs\, U.S. Small Business Administration\, New Hampshire Small Business Development Center\, and&nbsp\; local and regional chambers of commerce.</span></span></span></span></span></span></span></span></span></span>&#8203\;</p>\n\n<p style="margin: 0px auto 2.5em\; padding: 0px\; border: 0px\; color: rgb(51\, 51\, 51)\; font-size: 0.9em\; line-height: 2\; font-family: Merriweather\, arial\, sans-serif\; background-color: rgb(255\, 255\, 255)\;"><span style="font-family: &quot\;Trebuchet MS&quot\;\, Helvetica\, sans-serif\; font-size: medium\;">The cost to attend is $25&nbsp\;per person and is open to the general public. Registration fee includes continental breakfast. Cancellations accepted up to one week prior to event. After that\, substitutions are allowed. **Please note\, pre registration will close at 12pm on&nbsp\;Thursday\, February 13th. Walk ins will be accepted but there will be a $10 surcharge and payment is required at the door.**</span></p>\n\n<p style="margin: 0px auto 2.5em\; padding: 0px\; border: 0px\; color: rgb(51\, 51\, 51)\; font-size: 0.9em\; line-height: 2\; font-family: Merriweather\, arial\, sans-serif\; background-color: rgb(255\, 255\, 255)\;"><span style="font-family: &quot\;Trebuchet MS&quot\;\, Helvetica\, sans-serif\; font-size: medium\;">For more information or sponsorship/exhibitor details\, please contact&nbsp\;</span><a href="mailto:mail%20to:%20lmcmahon@biaofnh.com" style="color: rgb(0\, 66\, 140)\; transition: all 200ms linear 0s\;"><span style="font-family: &quot\;Trebuchet MS&quot\;\, Helvetica\, sans-serif\; font-size: medium\;">Lora McMahon</span></a><span style="font-family: &quot\;Trebuchet MS&quot\;\, Helvetica\, sans-serif\; font-size: medium\;">&nbsp\;at 603-224-5388 x101</span><span style="font-family: &quot\;Trebuchet MS&quot\;\, Helvetica\, sans-serif\;">.</span></p>\n
LOCATION:Holiday Inn 172 North Main Street Concord\, NH 03301
UID:e.2735.4260
SEQUENCE:3
DTSTAMP:20260422T090809Z
URL:http://members.gmsvcc.org/events/details/15th-annual-statewide-small-business-day-in-concord-4260
END:VEVENT

END:VCALENDAR
