BEGIN:VCALENDAR
VERSION:2.0
PRODID:-//ChamberMaster//Event Calendar 2.0//EN
METHOD:PUBLISH
X-PUBLISHED-TTL:P3D
REFRESH-INTERVAL:P3D
CALSCALE:GREGORIAN
BEGIN:VEVENT
DTSTART:20180209T123000Z
DTEND:20180209T170000Z
X-MICROSOFT-CDO-ALLDAYEVENT:FALSE
SUMMARY:13th Annual Small Business Day hosted by BIA NH
DESCRIPTION:BIA's Thirteenth Annual Small Business Day is an opportunity for small business owners and managers to meet peers from other small businesses across the state and receive valuable information to help grow their enterprises. The event will focus on important challenges and opportunities facing small businesses like traditional and alternative financing options\; benefit options for employees of small businesses\; making sense of the recently-passed federal tax reform\; and an update on legislation at the New Hampshire State House of particular interest to small businesses.
X-ALT-DESC;FMTTYPE=text/html:<span style="color: rgb(51\, 51\, 51)\; font-family: Merriweather\, arial\, sans-serif\; font-size: 14.4px\; background-color: rgb(255\, 255\, 255)\;">BIA&#39\;s Thirteenth Annual Small Business Day is an opportunity for small business owners and managers to meet peers from other small businesses across the state and receive valuable information to help grow their enterprises. The event will focus on important challenges and opportunities facing small businesses like traditional and alternative financing options\; benefit options&nbsp\;for employees of small businesses\; making sense of the recently-passed federal tax reform\; and an update on legislation at the New Hampshire State House of particular interest to small businesses.&nbsp\;&nbsp\;</span><br />\n&nbsp\;\n<p style="margin: 0px auto 2.5em\; padding: 0px\; border: 0px\; color: rgb(51\, 51\, 51)\; font-size: 0.9em\; line-height: 2\; font-family: Merriweather\, arial\, sans-serif\; background-color: rgb(255\, 255\, 255)\;">&nbsp\;</p>\n
LOCATION:Holiday Inn 172 North Main Street Concord\, NH 03301
UID:e.2735.3095
SEQUENCE:3
DTSTAMP:20260420T000751Z
URL:http://members.gmsvcc.org/events/details/13th-annual-small-business-day-hosted-by-bia-nh-3095
END:VEVENT

END:VCALENDAR
